BEGIN:VCALENDAR
VERSION:2.0
PRODID:-//Drupal//DD Create//EN
METHOD:PUBLISH
BEGIN:VEVENT
UID:dd_create.3030.0
DTSTAMP:20260423T181831Z
DTSTART:20190225T234500Z
DTEND:20190226T014500Z
SUMMARY:Sac High Softball 
URL;VALUE=URI:https://www.sthope.org/sac-high-athletic-event/sac-high-softball
END:VEVENT
END:VCALENDAR
