BEGIN:VCALENDAR
VERSION:2.0
PRODID:-//Drupal//DD Create//EN
METHOD:PUBLISH
BEGIN:VEVENT
UID:dd_create.3010.0
DTSTAMP:20260424T144956Z
DTSTART:20190406T150000Z
DTEND:20190407T050000Z
SUMMARY:Sac High Track & Field Arcadia Invitational
URL;VALUE=URI:https://www.sthope.org/sac-high-athletic-event/sac-high-track-field-arcadia-invitational
END:VEVENT
END:VCALENDAR
