BEGIN:VCALENDAR
VERSION:2.0
PRODID:-//Drupal//DD Create//EN
METHOD:PUBLISH
BEGIN:VEVENT
UID:dd_create.3009.0
DTSTAMP:20260424T062826Z
DTSTART:20190330T153000Z
DTEND:20190330T230000Z
SUMMARY:Sac High Track & Field Delta College Mustang Invitational
URL;VALUE=URI:https://www.sthope.org/sac-high-athletic-event/sac-high-track-field-delta-college-mustang-invitational
END:VEVENT
END:VCALENDAR
