BEGIN:VCALENDAR
VERSION:2.0
PRODID:-//Drupal//DD Create//EN
METHOD:PUBLISH
BEGIN:VEVENT
UID:dd_create.3005.0
DTSTAMP:20260423T215023Z
DTSTART:20190309T170000Z
DTEND:20190309T230000Z
SUMMARY:Sac High Track & Field Grant Welton "Moe" Moore Relays/Invitational
URL;VALUE=URI:https://www.sthope.org/sac-high-athletic-event/sac-high-track-field-grant-welton-moe-moore-relaysinvitational
END:VEVENT
END:VCALENDAR
