BEGIN:VCALENDAR
VERSION:2.0
PRODID:-//Drupal//DD Create//EN
METHOD:PUBLISH
BEGIN:VEVENT
UID:dd_create.3003.0
DTSTAMP:20260423T213753Z
DTSTART:20190223T164500Z
DTEND:20190224T000000Z
SUMMARY:Sac High Track & Field Clarke Massey Relays
URL;VALUE=URI:https://www.sthope.org/sac-high-athletic-event/sac-high-track-field-clarke-massey-relays
END:VEVENT
END:VCALENDAR
