BEGIN:VCALENDAR
VERSION:2.0
PRODID:-//Drupal//DD Create//EN
METHOD:PUBLISH
BEGIN:VEVENT
UID:dd_create.2996.0
DTSTAMP:20260425T235452Z
DTSTART:20190323T011500Z
DTEND:20190323T021500Z
SUMMARY:Sac High Boys Volleyball vs. Vista Del Lago
URL;VALUE=URI:https://www.sthope.org/event/sac-high-boys-volleyball-vs-vista-del-lago
END:VEVENT
END:VCALENDAR
