BEGIN:VCALENDAR
VERSION:2.0
PRODID:-//Drupal//DD Create//EN
METHOD:PUBLISH
BEGIN:VEVENT
UID:dd_create.2992.0
DTSTAMP:20260423T034916Z
DTSTART:20190307T021500Z
DTEND:20190307T031500Z
SUMMARY:Sac High Boys Volleyball at Del Campo
URL;VALUE=URI:https://www.sthope.org/event/sac-high-boys-volleyball-del-campo
END:VEVENT
END:VCALENDAR
