BEGIN:VCALENDAR
VERSION:2.0
PRODID:-//Drupal//DD Create//EN
METHOD:PUBLISH
BEGIN:VEVENT
UID:dd_create.2990.0
DTSTAMP:20260421T001910Z
DTSTART:20190309T180000Z
DTEND:20190309T190000Z
SUMMARY:Mocha Girls Read
URL;VALUE=URI:https://www.sthope.org/event/mocha-girls-read
END:VEVENT
END:VCALENDAR
