BEGIN:VCALENDAR
VERSION:2.0
PRODID:-//Drupal//DD Create//EN
METHOD:PUBLISH
BEGIN:VEVENT
UID:dd_create.2986.0
DTSTAMP:20260423T181840Z
DTSTART:20190322T010000Z
DTEND:20190322T023000Z
SUMMARY:Jamil Jan Kochi "99 Nights in Logar "
URL;VALUE=URI:https://www.sthope.org/event/jamil-jan-kochi-99-nights-logar
END:VEVENT
END:VCALENDAR
