BEGIN:VCALENDAR
VERSION:2.0
PRODID:-//Drupal//DD Create//EN
METHOD:PUBLISH
BEGIN:VEVENT
UID:dd_create.2976.0
DTSTAMP:20260422T003350Z
DTSTART:20190207T160000Z
DTEND:20190208T000000Z
SUMMARY:PS7 Middle Shadow Day
URL;VALUE=URI:https://www.sthope.org/event/ps7-middle-shadow-day-0
END:VEVENT
END:VCALENDAR
