BEGIN:VCALENDAR
VERSION:2.0
PRODID:-//Drupal//DD Create//EN
METHOD:PUBLISH
BEGIN:VEVENT
UID:dd_create.2969.0
DTSTAMP:20260423T200022Z
DTSTART:20190203T001500Z
DTEND:20190203T021500Z
SUMMARY:PS7 / Oak Park Prep Boys Basketball
URL;VALUE=URI:https://www.sthope.org/event/ps7-oak-park-prep-boys-basketball
END:VEVENT
END:VCALENDAR
