BEGIN:VCALENDAR
VERSION:2.0
PRODID:-//Drupal//DD Create//EN
METHOD:PUBLISH
BEGIN:VEVENT
UID:dd_create.2960.0
DTSTAMP:20260423T200225Z
DTSTART:20190216T040000Z
DTEND:20190216T073000Z
SUMMARY:SOL Development // The SOL of Black Folk Live Experience \\
URL;VALUE=URI:https://www.sthope.org/event/sol-development-sol-black-folk-live-experience
END:VEVENT
END:VCALENDAR
