BEGIN:VCALENDAR
VERSION:2.0
PRODID:-//Drupal//DD Create//EN
METHOD:PUBLISH
BEGIN:VEVENT
UID:dd_create.2948.0
DTSTAMP:20260423T152653Z
DTSTART:20190202T220000Z
DTEND:20190203T000000Z
SUMMARY:"Dream Big and Live an Amazingly Ridiculous Life" by Ronald Hickey
URL;VALUE=URI:https://www.sthope.org/event/dream-big-and-live-amazingly-ridiculous-life-ronald-hickey
END:VEVENT
END:VCALENDAR
