BEGIN:VCALENDAR
VERSION:2.0
PRODID:-//Drupal//DD Create//EN
METHOD:PUBLISH
BEGIN:VEVENT
UID:dd_create.2919.0
DTSTAMP:20260423T213703Z
DTSTART:20181220T170000Z
DTEND:20181220T210000Z
SUMMARY:St. HOPE Library Remodel
URL;VALUE=URI:https://www.sthope.org/post/st-hope-library-remodel
END:VEVENT
END:VCALENDAR
