BEGIN:VCALENDAR
VERSION:2.0
PRODID:-//Drupal//DD Create//EN
METHOD:PUBLISH
BEGIN:VEVENT
UID:dd_create.2910.0
DTSTAMP:20260426T023242Z
DTSTART:20181216T220000Z
DTEND:20181216T233000Z
SUMMARY: LA PASTORELA DE SACRAMENTO
URL;VALUE=URI:https://www.sthope.org/event/la-pastorela-de-sacramento-2
END:VEVENT
END:VCALENDAR
