BEGIN:VCALENDAR
VERSION:2.0
PRODID:-//Drupal//DD Create//EN
METHOD:PUBLISH
BEGIN:VEVENT
UID:dd_create.2908.0
DTSTAMP:20260423T232253Z
DTSTART:20181215T040000Z
DTEND:20181215T053000Z
SUMMARY:LA PASTORELA DE SACRAMENTO
URL;VALUE=URI:https://www.sthope.org/event/la-pastorela-de-sacramento-0
END:VEVENT
END:VCALENDAR
