BEGIN:VCALENDAR
VERSION:2.0
PRODID:-//Drupal//DD Create//EN
METHOD:PUBLISH
BEGIN:VEVENT
UID:dd_create.2907.0
DTSTAMP:20260420T025812Z
DTSTART:20181214T040000Z
DTEND:20181214T053000Z
SUMMARY:LA PASTORELA DE SACRAMENTO
URL;VALUE=URI:https://www.sthope.org/event/la-pastorela-de-sacramento
END:VEVENT
END:VCALENDAR
