BEGIN:VCALENDAR
VERSION:2.0
PRODID:-//Drupal//DD Create//EN
METHOD:PUBLISH
BEGIN:VEVENT
UID:dd_create.2890.0
DTSTAMP:20260424T130807Z
DTSTART:20190331T030000Z
DTEND:20190331T041500Z
SUMMARY:Alex Clark Comedy Show
URL;VALUE=URI:https://www.sthope.org/event/alex-clark-comedy-show
END:VEVENT
END:VCALENDAR
