BEGIN:VCALENDAR
VERSION:2.0
PRODID:-//Drupal//DD Create//EN
METHOD:PUBLISH
BEGIN:VEVENT
UID:dd_create.2869.0
DTSTAMP:20260426T042855Z
DTSTART:20190112T220000Z
DTEND:20190113T000000Z
SUMMARY:Taunya Wright and Michael Wright
URL;VALUE=URI:https://www.sthope.org/event/taunya-wright-and-michael-wright
END:VEVENT
END:VCALENDAR
