BEGIN:VCALENDAR
VERSION:2.0
PRODID:-//Drupal//DD Create//EN
METHOD:PUBLISH
BEGIN:VEVENT
UID:dd_create.2866.0
DTSTAMP:20260425T222230Z
DTSTART:20190201T080000Z
DTEND:20190202T080000Z
SUMMARY:Sac High Wrestling CAL Individual Champion Meet
URL;VALUE=URI:https://www.sthope.org/sac-high-athletic-event/sac-high-wrestling-cal-individual-champion-meet
END:VEVENT
END:VCALENDAR
