BEGIN:VCALENDAR
VERSION:2.0
PRODID:-//Drupal//DD Create//EN
METHOD:PUBLISH
BEGIN:VEVENT
UID:dd_create.2865.0
DTSTAMP:20260426T025724Z
DTSTART:20190110T030000Z
DTEND:20190110T050000Z
SUMMARY:Sac High Wrestling vs. El Camino
URL;VALUE=URI:https://www.sthope.org/sac-high-athletic-event/sac-high-wrestling-vs-el-camino-0
END:VEVENT
END:VCALENDAR
