BEGIN:VCALENDAR
VERSION:2.0
PRODID:-//Drupal//DD Create//EN
METHOD:PUBLISH
BEGIN:VEVENT
UID:dd_create.2850.0
DTSTAMP:20260422T114802Z
DTSTART:20181201T220000Z
DTEND:20181202T000000Z
SUMMARY:Stacie Lee "All I Want for Christmas"
URL;VALUE=URI:https://www.sthope.org/event/stacie-lee-all-i-want-christmas
END:VEVENT
END:VCALENDAR
