BEGIN:VCALENDAR
VERSION:2.0
PRODID:-//Drupal//DD Create//EN
METHOD:PUBLISH
BEGIN:VEVENT
UID:dd_create.2846.0
DTSTAMP:20260423T082337Z
DTSTART:20190207T233000Z
DTEND:20190208T013000Z
SUMMARY:Sac High Wrestling vs. Vista Del Lago
URL;VALUE=URI:https://www.sthope.org/sac-high-athletic-event/sac-high-wrestling-vs-vista-del-lago-0
END:VEVENT
END:VCALENDAR
