BEGIN:VCALENDAR
VERSION:2.0
PRODID:-//Drupal//DD Create//EN
METHOD:PUBLISH
BEGIN:VEVENT
UID:dd_create.2841.0
DTSTAMP:20260422T114640Z
DTSTART:20190118T030000Z
DTEND:20190118T050000Z
SUMMARY:Sac High Wrestling vs. Christian Brothers
URL;VALUE=URI:https://www.sthope.org/sac-high-athletic-event/sac-high-wrestling-vs-christian-brothers-0
END:VEVENT
END:VCALENDAR
