BEGIN:VCALENDAR
VERSION:2.0
PRODID:-//Drupal//DD Create//EN
METHOD:PUBLISH
BEGIN:VEVENT
UID:dd_create.2821.0
DTSTAMP:20260423T215237Z
DTSTART:20190119T030000Z
DTEND:20190119T043000Z
SUMMARY:Sac High Boys Basketball vs. Vista Del Lago
URL;VALUE=URI:https://www.sthope.org/sac-high-athletic-event/sac-high-boys-basketball-vs-vista-del-lago
END:VEVENT
END:VCALENDAR
