BEGIN:VCALENDAR
VERSION:2.0
PRODID:-//Drupal//DD Create//EN
METHOD:PUBLISH
BEGIN:VEVENT
UID:dd_create.2811.0
DTSTAMP:20260423T201453Z
DTSTART:20180208T030000Z
DTEND:20180208T050000Z
SUMMARY:Sac High Boys Soccer vs. Vista Del Lago
URL;VALUE=URI:https://www.sthope.org/sac-high-athletic-event/sac-high-boys-soccer-vs-vista-del-lago-0
END:VEVENT
END:VCALENDAR
