BEGIN:VCALENDAR
VERSION:2.0
PRODID:-//Drupal//DD Create//EN
METHOD:PUBLISH
BEGIN:VEVENT
UID:dd_create.2795.0
DTSTAMP:20260425T225622Z
DTSTART:20190207T030000Z
DTEND:20190207T050000Z
SUMMARY:Sac High Girls Basketball vs. El Camino (Senior Night)
URL;VALUE=URI:https://www.sthope.org/sac-high-athletic-event/sac-high-girls-basketball-vs-el-camino-senior-night
END:VEVENT
END:VCALENDAR
