BEGIN:VCALENDAR
VERSION:2.0
PRODID:-//Drupal//DD Create//EN
METHOD:PUBLISH
BEGIN:VEVENT
UID:dd_create.2791.0
DTSTAMP:20260423T182615Z
DTSTART:20190126T233000Z
DTEND:20190127T013000Z
SUMMARY:Sac High Girls Basketball vs. Montgomery
URL;VALUE=URI:https://www.sthope.org/sac-high-athletic-event/sac-high-girls-basketball-vs-montgomery
END:VEVENT
END:VCALENDAR
