BEGIN:VCALENDAR
VERSION:2.0
PRODID:-//Drupal//DD Create//EN
METHOD:PUBLISH
BEGIN:VEVENT
UID:dd_create.2786.0
DTSTAMP:20260423T195831Z
DTSTART:20190112T030000Z
DTEND:20190112T050000Z
SUMMARY:Sac High Girls Basketball vs. Del Campo
URL;VALUE=URI:https://www.sthope.org/sac-high-athletic-event/sac-high-girls-basketball-vs-del-campo
END:VEVENT
END:VCALENDAR
