BEGIN:VCALENDAR
VERSION:2.0
PRODID:-//Drupal//DD Create//EN
METHOD:PUBLISH
BEGIN:VEVENT
UID:dd_create.2782.0
DTSTAMP:20260425T204032Z
DTSTART:20190105T030000Z
DTEND:20190105T050000Z
SUMMARY:Sac High Girls Basketball @ Capital Christian
URL;VALUE=URI:https://www.sthope.org/sac-high-athletic-event/sac-high-girls-basketball-capital-christian
END:VEVENT
END:VCALENDAR
