BEGIN:VCALENDAR
VERSION:2.0
PRODID:-//Drupal//DD Create//EN
METHOD:PUBLISH
BEGIN:VEVENT
UID:dd_create.2780.0
DTSTAMP:20260426T012751Z
DTSTART:20181215T030000Z
DTEND:20181215T050000Z
SUMMARY:Sac High Girls Basketball vs. Oak Ridge
URL;VALUE=URI:https://www.sthope.org/sac-high-athletic-event/sac-high-girls-basketball-vs-oak-ridge
END:VEVENT
END:VCALENDAR
