BEGIN:VCALENDAR
VERSION:2.0
PRODID:-//Drupal//DD Create//EN
METHOD:PUBLISH
BEGIN:VEVENT
UID:dd_create.2768.0
DTSTAMP:20260425T154650Z
DTSTART:20181115T010000Z
DTEND:20181115T050000Z
SUMMARY:Meet the Vandals
URL;VALUE=URI:https://www.sthope.org/event/meet-vandals
END:VEVENT
END:VCALENDAR
