BEGIN:VCALENDAR
VERSION:2.0
PRODID:-//Drupal//DD Create//EN
METHOD:PUBLISH
BEGIN:VEVENT
UID:dd_create.2761.0
DTSTAMP:20260424T001051Z
DTSTART:20181201T200000Z
DTEND:20181201T220000Z
SUMMARY:Underground Books Book Club
URL;VALUE=URI:https://www.sthope.org/event/underground-books-book-club-0
END:VEVENT
END:VCALENDAR
