BEGIN:VCALENDAR
VERSION:2.0
PRODID:-//Drupal//DD Create//EN
METHOD:PUBLISH
BEGIN:VEVENT
UID:dd_create.2712.0
DTSTAMP:20260422T113828Z
DTSTART:20181006T020000Z
DTEND:20181006T040000Z
SUMMARY:Anthropology of Día de los Muertos
URL;VALUE=URI:https://www.sthope.org/event/anthropology-dia-de-los-muertos
END:VEVENT
END:VCALENDAR
