BEGIN:VCALENDAR
VERSION:2.0
PRODID:-//Drupal//DD Create//EN
METHOD:PUBLISH
BEGIN:VEVENT
UID:dd_create.2699.0
DTSTAMP:20260424T003102Z
DTSTART:20181004T223000Z
DTEND:20181005T003000Z
SUMMARY:Girls Golf vs. Christian Brothers
URL;VALUE=URI:https://www.sthope.org/event/girls-golf-vs-christian-brothers
END:VEVENT
END:VCALENDAR
