BEGIN:VCALENDAR
VERSION:2.0
PRODID:-//Drupal//DD Create//EN
METHOD:PUBLISH
BEGIN:VEVENT
UID:dd_create.2697.0
DTSTAMP:20260420T062508Z
DTSTART:20180927T223000Z
DTEND:20180928T003000Z
SUMMARY:Girls Golf vs. Rio Americano
URL;VALUE=URI:https://www.sthope.org/event/girls-golf-vs-rio-americano
END:VEVENT
END:VCALENDAR
