BEGIN:VCALENDAR
VERSION:2.0
PRODID:-//Drupal//DD Create//EN
METHOD:PUBLISH
BEGIN:VEVENT
UID:dd_create.2692.0
DTSTAMP:20260423T182818Z
DTSTART:20181103T090000Z
DTEND:20181103T230000Z
SUMMARY:Sheryl Lister's "His Los Angeles Surprise"
URL;VALUE=URI:https://www.sthope.org/event/sheryl-listers-his-los-angeles-surprise
END:VEVENT
END:VCALENDAR
