BEGIN:VCALENDAR
VERSION:2.0
PRODID:-//Drupal//DD Create//EN
METHOD:PUBLISH
BEGIN:VEVENT
UID:dd_create.2618.0
DTSTAMP:20260423T214052Z
DTSTART:20181006T230000Z
DTEND:20181007T003000Z
SUMMARY:"Baby Boy, What Will You Be?"
URL;VALUE=URI:https://www.sthope.org/event/baby-boy-what-will-you-be
END:VEVENT
END:VCALENDAR
