BEGIN:VCALENDAR
VERSION:2.0
PRODID:-//Drupal//DD Create//EN
METHOD:PUBLISH
BEGIN:VEVENT
UID:dd_create.2609.0
DTSTAMP:20260423T182646Z
DTSTART:20180915T021500Z
DTEND:20180915T051500Z
SUMMARY:Sac High Football at Del Campo HS
URL;VALUE=URI:https://www.sthope.org/sac-high-athletic-event/sac-high-football-del-campo-hs
END:VEVENT
END:VCALENDAR
