BEGIN:VCALENDAR
VERSION:2.0
PRODID:-//Drupal//DD Create//EN
METHOD:PUBLISH
BEGIN:VEVENT
UID:dd_create.2604.0
DTSTAMP:20260423T213915Z
DTSTART:20180907T003000Z
DTEND:20180907T020000Z
SUMMARY:PS7 Middle Back to School Night
URL;VALUE=URI:https://www.sthope.org/event/ps7-middle-back-school-night
END:VEVENT
END:VCALENDAR
