BEGIN:VCALENDAR
VERSION:2.0
PRODID:-//Drupal//DD Create//EN
METHOD:PUBLISH
BEGIN:VEVENT
UID:dd_create.2579.0
DTSTAMP:20260425T130825Z
DTSTART:20180808T070000Z
DTEND:20180808T070000Z
SUMMARY:First Day of School
URL;VALUE=URI:https://www.sthope.org/event/first-day-school-4
END:VEVENT
END:VCALENDAR
