BEGIN:VCALENDAR
VERSION:2.0
PRODID:-//Drupal//DD Create//EN
METHOD:PUBLISH
BEGIN:VEVENT
UID:dd_create.2554.0
DTSTAMP:20260421T232137Z
DTSTART:20180915T210000Z
DTEND:20180915T230000Z
SUMMARY:"Never Let Nobody Steal Yo' Thunder: Don't Let the Bad People Keep You Down
URL;VALUE=URI:https://www.sthope.org/event/never-let-nobody-steal-yo-thunder-dont-let-bad-people-keep-you-down
END:VEVENT
END:VCALENDAR
