BEGIN:VCALENDAR
VERSION:2.0
PRODID:-//Drupal//DD Create//EN
METHOD:PUBLISH
BEGIN:VEVENT
UID:dd_create.2524.0
DTSTAMP:20260422T060003Z
DTSTART:20180624T000000Z
DTEND:20180624T030000Z
SUMMARY:Not a genuine Black Man: Longest Running Solo Show in San Francisco History
URL;VALUE=URI:https://www.sthope.org/event/not-genuine-black-man-longest-running-solo-show-san-francisco-history
END:VEVENT
END:VCALENDAR
