BEGIN:VCALENDAR
VERSION:2.0
PRODID:-//Drupal//DD Create//EN
METHOD:PUBLISH
BEGIN:VEVENT
UID:dd_create.2451.0
DTSTAMP:20260419T115100Z
DTSTART:20180414T210000Z
DTEND:20180414T230000Z
SUMMARY:"Love's Serenade" (Decades: A Journey of African American Romance) (Volume 3)
URL;VALUE=URI:https://www.sthope.org/event/loves-serenade-decades-journey-african-american-romance-volume-3
END:VEVENT
END:VCALENDAR
