BEGIN:VCALENDAR
VERSION:2.0
PRODID:-//Drupal//DD Create//EN
METHOD:PUBLISH
BEGIN:VEVENT
UID:dd_create.2441.0
DTSTAMP:20260423T194323Z
DTSTART:20180603T220000Z
DTEND:20180604T000000Z
SUMMARY:Convergence II
URL;VALUE=URI:https://www.sthope.org/event/convergence-ii
END:VEVENT
END:VCALENDAR
