BEGIN:VCALENDAR
VERSION:2.0
PRODID:-//Drupal//DD Create//EN
METHOD:PUBLISH
BEGIN:VEVENT
UID:dd_create.2434.0
DTSTAMP:20260426T023335Z
DTSTART:20180317T030000Z
DTEND:20180317T050000Z
SUMMARY:Showtime at The Guild
URL;VALUE=URI:https://www.sthope.org/event/showtime-guild
END:VEVENT
END:VCALENDAR
