BEGIN:VCALENDAR
VERSION:2.0
PRODID:-//Drupal//DD Create//EN
METHOD:PUBLISH
BEGIN:VEVENT
UID:dd_create.2377.0
DTSTAMP:20260424T003422Z
DTSTART:20180214T010000Z
DTEND:20180214T030000Z
SUMMARY:Black Talk Radio
URL;VALUE=URI:https://www.sthope.org/event/black-talk-radio-12
END:VEVENT
END:VCALENDAR
