BEGIN:VCALENDAR
VERSION:2.0
PRODID:-//Drupal//DD Create//EN
METHOD:PUBLISH
BEGIN:VEVENT
UID:dd_create.2359.0
DTSTAMP:20260426T011808Z
DTSTART:20180210T220000Z
DTEND:20180211T000000Z
SUMMARY:Bruce D. Haynes & Syma Solovitch "Down the Up Staircase: Three Generations of a Harlem Family"
URL;VALUE=URI:https://www.sthope.org/event/bruce-d-haynes-syma-solovitch-down-staircase-three-generations-harlem-family
END:VEVENT
END:VCALENDAR
