BEGIN:VCALENDAR
VERSION:2.0
PRODID:-//Drupal//DD Create//EN
METHOD:PUBLISH
BEGIN:VEVENT
UID:dd_create.2354.0
DTSTAMP:20260423T061641Z
DTSTART:20180127T160000Z
DTEND:20180128T020000Z
SUMMARY:Sacramento VegFest
URL;VALUE=URI:https://www.sthope.org/community-event/sacramento-vegfest
END:VEVENT
END:VCALENDAR
