BEGIN:VCALENDAR
VERSION:2.0
PRODID:-//Drupal//DD Create//EN
METHOD:PUBLISH
BEGIN:VEVENT
UID:dd_create.2345.0
DTSTAMP:20260424T031627Z
DTSTART:20180412T230000Z
DTEND:20180412T230000Z
SUMMARY:Girl's Softball @ McClatchy
URL;VALUE=URI:https://www.sthope.org/sac-high-athletic-event/girls-softball-mcclatchy
END:VEVENT
END:VCALENDAR
